Workbook
Name Export_Coal_DETAILS: 'Load Plan'!$R$3:$X$13
Name Port_Waratah_Coal_Services__PWCS__LOADING_PLAN: 'Load Plan'!$A$3:$X$16
Name Port_Waratah_Coal_Services__PWCS__LOADING_PLAN_LOADING_CONSTRAINTS: 'Load Plan'!$A$3:$Z$16

Sheet Load Plan
W1: Form V04 - Term: 2026-02-03
A2: Loading Sequence Template
D3: LOADING PLAN FOR PNSA FROM MV | I3: VESSEL NAME | S3: Coal Name | U3: Stowage Factor (ft3/ t) | V3: Planned Tonnes per cargo type
I5: Ballast to pump out (m3): | N5: TPC:
I6: Deballast Pump Rate: | N6: Estimated sailing displacement:
I7: Dock Water Density: | N7: Vessel with Deck Gear: | O7: YES NO
I8: Planned Maximum Sailing Draft | N8: Any tonnage restriction? | O8: YES NO | S8: Submit loading plan to PNSA through registered shipping agent. Draft and tonnage restriction for PNSA's information purpose only. Vessel remains responsible for correct execution.
I9: Any draft restriction? | J9: YES NO | N9: Tonnage restriction (if any):
C10: Maximum sailing draft from PNSA the vessel can have to do not exceed the max arrival draft at disport OR other restriction (if any)
F15: The shaded areas must be submitted 72 prior to vessel's ETA
P17: Vessel Name: | R17: =I3 -> VESSEL NAME | U17: Date: | V17: =NOW() -> 46056.589
F18: 9 | H18: 8 | J18: 7 | L18: 6 | N18: 5 | P18: 4 | R18: 3 | T18: 2 | V18: 1
C19: Capacity inc coamings: | X19: ft3
C20: Planned filling %: | X20: %
C21: Coal Name: | X21: t
C22: Assumed SF: | F22: =IFERROR(((F19*F20)/F23),"") | H22: =IFERROR(((H19*H20)/H23),"") | J22: =IFERROR(((J19*J20)/J23),"") | L22: =IFERROR(((L19*L20)/L23),"") | N22: =IFERROR(((N19*N20)/N23),"") | P22: =IFERROR(((P19*P20)/P23),"") | R22: =IFERROR(((R19*R20)/R23),"") | T22: =IFERROR(((T19*T20)/T23),"") | V22: =IFERROR(((V19*V20)/V23),"") | X22: ft3/t
C23: Planned Metric Tonnes: | X23: t
A25: Hold Loading Sequence | F25: Planned Total Tonnes: | I25: =SUM(F23:W23) -> 0
A27: Pour No | B27: Cargo | D27: Load Time (Hrs) | E27: Export Coal Name | G27: Ballast Operations | L27: De-ballast Time (Hrs) | M27: Comments/Variations | P27: Calculated Values
P28: Draught | R28: Maximum | T28: Air Draft | U28: Air Draft (to the top of the hatch covers, when opened) | V28: Draught Mid | W28: Trim
B29: Hold No | C29: Tonnes | P29: Fwd | Q29: Aft | R29: BM (*) | S29: SF (*)
M30: Arrival:
A31: 1 | D31: =C31/6500 -> 0
A32: =A31+1 -> 2 | D32: =C32/6500 -> 0
A33: =A32+1 -> 3 | D33: =C33/6500 -> 0
A34: =A33+1 -> 4 | D34: =C34/6500 -> 0
A35: =A34+1 -> 5 | D35: =C35/6500 -> 0
A36: =A35+1 -> 6 | D36: =C36/6500 -> 0
A37: =A36+1 -> 7 | D37: =C37/6500 -> 0
A38: =A37+1 -> 8 | D38: =C38/6500 -> 0
A39: =A38+1 -> 9 | D39: =C39/6500 -> 0
A40: =A39+1 -> 10 | D40: =C40/6500 -> 0
A41: =A40+1 -> 11 | D41: =C41/6500 -> 0
A42: =A41+1 -> 12 | D42: =C42/6500 -> 0
A43: =A42+1 -> 13 | D43: =C43/6500 -> 0
... A53: =A52+1 -> 23 | D53: =C53/6500 -> 0
A54: =A53+1 -> 24
A55: =A54+1 -> 25
A56: Total: | C56: =SUM(C31:C53) -> 0 | D56: =SUM(D31:D53) -> 0 | E56: Total Deballast Time including Stripping = | L56: =SUM(L31:L53) -> 0 | M56: Final / Sail Time:
B57: =IF(L56>D56,"DEBALLASTING TIME IS HIGHER THAN THE TIME REQUIRED FOR LOADING OPERATIONS. THEN, A DEBALLASTING STOPPAGE MUST BE INCLUDED IN THE LOADING SEQUENCE AS A SEPARATE STEP","")
...

Sheet Calc
H1: Pour No | I1: Hold No | J1: Tonnes | K1: Coal Type | L1: Last Pour | M1: Trim | N1: Pour Time | O1: Survey | P1: Hatch Change | Q1: Coal Type Change | R1: Load Time
C2: KCT | D2: CCT | E2: CCT-2 | F2: Used | H2: ='Load Plan'!A31 -> 1 | I2: ='Load Plan'!B31 -> 0 | J2: ='Load Plan'!C31 -> 0 | K2: =TRIM(IF(J2>0,HLOOKUP(I2,'Load Plan'!$F$18:$W$23,4,FALSE),"")) | L2: =IF(AND(J2<>0,J3=0,J4=0),TRUE,FALSE) -> FALSE | M2: =OR(L2,L3) -> FALSE | N2: =J2/IF(M2,$F$4,$F$3) -> 0 | O2: =IF(L4,$F$7/60,0) -> 0 | P2: =IF(AND(NOT(OR(I2=0,I3=0)),NOT(EXACT(I2,I3)),O2=0),$F$5/60,0) -> 0 | Q2: =IF(AND(NOT(EXACT(K2,K3)),K2<>"",K3<>""),$F$6/60,0) -> 0 | R2: =N2+MAX(O2,P2,Q2) -> 0
B3: Normal Loading Rate: | C3: 7000 | D3: 1900 | E3: 2850 | F3: =IF($D$10="KCT",Calc!C3,IF($C$13,E3,Calc!D3)) -> 1900 | H3: ='Load Plan'!A32 -> 2 | I3: ='Load Plan'!B32 -> 0 | J3: ='Load Plan'!C32 -> 0 | K3: =TRIM(IF(J3>0,HLOOKUP(I3,'Load Plan'!$F$18:$W$23,4,FALSE),"")) | L3: =IF(AND(J3<>0,J4=0,J5=0),TRUE,FALSE) -> FALSE | M3: =OR(L3,L4) -> FALSE | N3: =J3/IF(M3,$F$4,$F$3) -> 0 | O3: =IF(L5,$F$7/60,0) -> 0 | P3: =IF(AND(NOT(OR(I3=0,I4=0)),NOT(EXACT(I3,I4)),O3=0),$F$5/60,0) -> 0 | Q3: =IF(AND(NOT(EXACT(K3,K4)),K3<>"",K4<>""),$F$6/60,0) -> 0 | R3: =N3+MAX(O3,P3,Q3) -> 0
B4: Trim Loading Rate: | C4: 3000 | D4: 1600 | E4: 1600 | F4: =IF($D$10="KCT",Calc!C4,IF($C$13,E4,Calc!D4)) -> 1600 | H4: ='Load Plan'!A33 -> 3 | I4: ='Load Plan'!B33 -> 0 | J4: ='Load Plan'!C33 -> 0 | K4: =TRIM(IF(J4>0,HLOOKUP(I4,'Load Plan'!$F$18:$W$23,4,FALSE),"")) | L4: =IF(AND(J4<>0,J5=0,J6=0),TRUE,FALSE) -> FALSE | M4: =OR(L4,L5) -> FALSE | N4: =J4/IF(M4,$F$4,$F$3) -> 0 | O4: =IF(L6,$F$7/60,0) -> 0 | P4: =IF(AND(NOT(OR(I4=0,I5=0)),NOT(EXACT(I4,I5)),O4=0),$F$5/60,0) -> 0 | Q4: =IF(AND(NOT(EXACT(K4,K5)),K4<>"",K5<>""),$F$6/60,0) -> 0 | R4: =N4+MAX(O4,P4,Q4) -> 0
B5: Hatch Change - Time Allocation (mins): | C5: 10 | D5: 10 | F5: =IF($D$10="KCT",Calc!C5,Calc!D5)*IF(C12,2,1) -> 10 | H5: ='Load Plan'!A34 -> 4 | I5: ='Load Plan'!B34 -> 0 | J5: ='Load Plan'!C34 -> 0 | K5: =TRIM(IF(J5>0,HLOOKUP(I5,'Load Plan'!$F$18:$W$23,4,FALSE),"")) | L5: =IF(AND(J5<>0,J6=0,J7=0),TRUE,FALSE) -> FALSE | M5: =OR(L5,L6) -> FALSE | N5: =J5/IF(M5,$F$4,$F$3) -> 0 | O5: =IF(L7,$F$7/60,0) -> 0 | P5: =IF(AND(NOT(OR(I5=0,I6=0)),NOT(EXACT(I5,I6)),O5=0),$F$5/60,0) -> 0 | Q5: =IF(AND(NOT(EXACT(K5,K6)),K5<>"",K6<>""),$F$6/60,0) -> 0 | R5: =N5+MAX(O5,P5,Q5) -> 0
B6: Coal Type Change - Time Allocation (mins): | C6: 40 | D6: 40 | F6: =IF($D$10="KCT",Calc!C6,Calc!D6) -> 40 | H6: ='Load Plan'!A35 -> 5 | I6: ='Load Plan'!B35 -> 0 | J6: ='Load Plan'!C35 -> 0 | K6: =TRIM(IF(J6>0,HLOOKUP(I6,'Load Plan'!$F$18:$W$23,4,FALSE),"")) | L6: =IF(AND(J6<>0,J7=0,J8=0),TRUE,FALSE) -> FALSE | M6: =OR(L6,L7) -> FALSE | N6: =J6/IF(M6,$F$4,$F$3) -> 0 | O6: =IF(L8,$F$7/60,0) -> 0 | P6: =IF(AND(NOT(OR(I6=0,I7=0)),NOT(EXACT(I6,I7)),O6=0),$F$5/60,0) -> 0 | Q6: =IF(AND(NOT(EXACT(K6,K7)),K6<>"",K7<>""),$F$6/60,0) -> 0 | R6: =N6+MAX(O6,P6,Q6) -> 0
B7: Interim Draught - Time Allocation (mins): | C7: 30 | D7: 30 | F7: =IF($D$10="KCT",Calc!C7,Calc!D7) -> 30 | H7: ='Load Plan'!A36 -> 6 | I7: ='Load Plan'!B36 -> 0 | J7: ='Load Plan'!C36 -> 0 | K7: =TRIM(IF(J7>0,HLOOKUP(I7,'Load Plan'!$F$18:$W$23,4,FALSE),"")) | L7: =IF(AND(J7<>0,J8=0,J9=0),TRUE,FALSE) -> FALSE | M7: =OR(L7,L8) -> FALSE | N7: =J7/IF(M7,$F$4,$F$3) -> 0 | O7: =IF(L9,$F$7/60,0) -> 0 | P7: =IF(AND(NOT(OR(I7=0,I8=0)),NOT(EXACT(I7,I8)),O7=0),$F$5/60,0) -> 0 | Q7: =IF(AND(NOT(EXACT(K7,K8)),K7<>"",K8<>""),$F$6/60,0) -> 0 | R7: =N7+MAX(O7,P7,Q7) -> 0
H8: ='Load Plan'!A37 -> 7 | I8: ='Load Plan'!B37 -> 0 | J8: ='Load Plan'!C37 -> 0 | K8: =TRIM(IF(J8>0,HLOOKUP(I8,'Load Plan'!$F$18:$W$23,4,FALSE),"")) | L8: =IF(AND(J8<>0,J9=0,J10=0),TRUE,FALSE) -> FALSE | M8: =OR(L8,L9) -> FALSE | N8: =J8/IF(M8,$F$4,$F$3) -> 0 | O8: =IF(L10,$F$7/60,0) -> 0 | P8: =IF(AND(NOT(OR(I8=0,I9=0)),NOT(EXACT(I8,I9)),O8=0),$F$5/60,0) -> 0 | Q8: =IF(AND(NOT(EXACT(K8,K9)),K8<>"",K9<>""),$F$6/60,0) -> 0 | R8: =N8+MAX(O8,P8,Q8) -> 0
H9: ='Load Plan'!A38 -> 8 | I9: ='Load Plan'!B38 -> 0 | J9: ='Load Plan'!C38 -> 0 | K9: =TRIM(IF(J9>0,HLOOKUP(I9,'Load Plan'!$F$18:$W$23,4,FALSE),"")) | L9: =IF(AND(J9<>0,J10=0,J11=0),TRUE,FALSE) -> FALSE | M9: =OR(L9,L10) -> FALSE | N9: =J9/IF(M9,$F$4,$F$3) -> 0 | O9: =IF(L11,$F$7/60,0) -> 0 | P9: =IF(AND(NOT(OR(I9=0,I10=0)),NOT(EXACT(I9,I10)),O9=0),$F$5/60,0) -> 0 | Q9: =IF(AND(NOT(EXACT(K9,K10)),K9<>"",K10<>""),$F$6/60,0) -> 0 | R9: =N9+MAX(O9,P9,Q9) -> 0
B10: Terminal | C10: =TRIM('Load Plan'!D6) | D10: =IF(OR(C10="K4",C10="K5",C10="K6"),"KCT","CCT") -> CCT | H10: ='Load Plan'!A39 -> 9 | I10: ='Load Plan'!B39 -> 0 | J10: ='Load Plan'!C39 -> 0 | K10: =TRIM(IF(J10>0,HLOOKUP(I10,'Load Plan'!$F$18:$W$23,4,FALSE),"")) | L10: =IF(AND(J10<>0,J11=0,J12=0),TRUE,FALSE) -> FALSE | M10: =OR(L10,L11) -> FALSE | N10: =J10/IF(M10,$F$4,$F$3) -> 0 | O10: =IF(L12,$F$7/60,0) -> 0 | P10: =IF(AND(NOT(OR(I10=0,I11=0)),NOT(EXACT(I10,I11)),O10=0),$F$5/60,0) -> 0 | Q10: =IF(AND(NOT(EXACT(K10,K11)),K10<>"",K11<>""),$F$6/60,0) -> 0 | R10: =N10+MAX(O10,P10,Q10) -> 0
B11: Tidal | C11: FALSE | E11: =IF(C11,"Max Allowable- Sailing Draft","") | H11: ='Load Plan'!A40 -> 10 | I11: ='Load Plan'!B40 -> 0 | J11: ='Load Plan'!C40 -> 0 | K11: =TRIM(IF(J11>0,HLOOKUP(I11,'Load Plan'!$F$18:$W$23,4,FALSE),"")) | L11: =IF(AND(J11<>0,J12=0,J13=0),TRUE,FALSE) -> FALSE | M11: =OR(L11,L12) -> FALSE | N11: =J11/IF(M11,$F$4,$F$3) -> 0 | O11: =IF(L13,$F$7/60,0) -> 0 | P11: =IF(AND(NOT(OR(I11=0,I12=0)),NOT(EXACT(I11,I12)),O11=0),$F$5/60,0) -> 0 | Q11: =IF(AND(NOT(EXACT(K11,K12)),K11<>"",K12<>""),$F$6/60,0) -> 0 | R11: =N11+MAX(O11,P11,Q11) -> 0
B12: Deck Gear | C12: FALSE | H12: ='Load Plan'!A41 -> 11 | I12: ='Load Plan'!B41 -> 0 | J12: ='Load Plan'!C41 -> 0 | K12: =TRIM(IF(J12>0,HLOOKUP(I12,'Load Plan'!$F$18:$W$23,4,FALSE),"")) | L12: =IF(AND(J12<>0,J13=0,J14=0),TRUE,FALSE) -> FALSE | M12: =OR(L12,L13) -> FALSE | N12: =J12/IF(M12,$F$4,$F$3) -> 0 | O12: =IF(L14,$F$7/60,0) -> 0 | P12: =IF(AND(NOT(OR(I12=0,I13=0)),NOT(EXACT(I12,I13)),O12=0),$F$5/60,0) -> 0 | Q12: =IF(AND(NOT(EXACT(K12,K13)),K12<>"",K13<>""),$F$6/60,0) -> 0 | R12: =N12+MAX(O12,P12,Q12) -> 0
B13: CCT Dual | C13: FALSE | H13: ='Load Plan'!A42 -> 12 | I13: ='Load Plan'!B42 -> 0 | J13: ='Load Plan'!C42 -> 0 | K13: =TRIM(IF(J13>0,HLOOKUP(I13,'Load Plan'!$F$18:$W$23,4,FALSE),"")) | L13: =IF(AND(J13<>0,J14=0,J15=0),TRUE,FALSE) -> FALSE | M13: =OR(L13,L14) -> FALSE | N13: =J13/IF(M13,$F$4,$F$3) -> 0 | O13: =IF(L15,$F$7/60,0) -> 0 | P13: =IF(AND(NOT(OR(I13=0,I14=0)),NOT(EXACT(I13,I14)),O13=0),$F$5/60,0) -> 0 | Q13: =IF(AND(NOT(EXACT(K13,K14)),K13<>"",K14<>""),$F$6/60,0) -> 0 | R13: =N13+MAX(O13,P13,Q13) -> 0
H14: ='Load Plan'!A43 -> 13 | I14: ='Load Plan'!B43 -> 0 | J14: ='Load Plan'!C43 -> 0 | K14: =TRIM(IF(J14>0,HLOOKUP(I14,'Load Plan'!$F$18:$W$23,4,FALSE),"")) | L14: =IF(AND(J14<>0,J15=0,J16=0),TRUE,FALSE) -> FALSE | M14: =OR(L14,L15) -> FALSE | N14: =J14/IF(M14,$F$4,$F$3) -> 0 | O14: =IF(L16,$F$7/60,0) -> 0 | P14: =IF(AND(NOT(OR(I14=0,I15=0)),NOT(EXACT(I14,I15)),O14=0),$F$5/60,0) -> 0 | Q14: =IF(AND(NOT(EXACT(K14,K15)),K14<>"",K15<>""),$F$6/60,0) -> 0 | R14: =N14+MAX(O14,P14,Q14) -> 0
H15: ='Load Plan'!A44 -> 14 | I15: ='Load Plan'!B44 -> 0 | J15: ='Load Plan'!C44 -> 0 | K15: =TRIM(IF(J15>0,HLOOKUP(I15,'Load Plan'!$F$18:$W$23,4,FALSE),"")) | L15: =IF(AND(J15<>0,J16=0,J17=0),TRUE,FALSE) -> FALSE | M15: =OR(L15,L16) -> FALSE | N15: =J15/IF(M15,$F$4,$F$3) -> 0 | O15: =IF(L17,$F$7/60,0) -> 0 | P15: =IF(AND(NOT(OR(I15=0,I16=0)),NOT(EXACT(I15,I16)),O15=0),$F$5/60,0) -> 0 | Q15: =IF(AND(NOT(EXACT(K15,K16)),K15<>"",K16<>""),$F$6/60,0) -> 0 | R15: =N15+MAX(O15,P15,Q15) -> 0
H16: ='Load Plan'!A45 -> 15 | I16: ='Load Plan'!B45 -> 0 | J16: ='Load Plan'!C45 -> 0 | K16: =TRIM(IF(J16>0,HLOOKUP(I16,'Load Plan'!$F$18:$W$23,4,FALSE),"")) | L16: =IF(AND(J16<>0,J17=0,J18=0),TRUE,FALSE) -> FALSE | M16: =OR(L16,L17) -> FALSE | N16: =J16/IF(M16,$F$4,$F$3) -> 0 | O16: =IF(L18,$F$7/60,0) -> 0 | P16: =IF(AND(NOT(OR(I16=0,I17=0)),NOT(EXACT(I16,I17)),O16=0),$F$5/60,0) -> 0 | Q16: =IF(AND(NOT(EXACT(K16,K17)),K16<>"",K17<>""),$F$6/60,0) -> 0 | R16: =N16+MAX(O16,P16,Q16) -> 0
H17: ='Load Plan'!A46 -> 16 | I17: ='Load Plan'!B46 -> 0 | J17: ='Load Plan'!C46 -> 0 | K17: =TRIM(IF(J17>0,HLOOKUP(I17,'Load Plan'!$F$18:$W$23,4,FALSE),"")) | L17: =IF(AND(J17<>0,J18=0,J19=0),TRUE,FALSE) -> FALSE | M17: =OR(L17,L18) -> FALSE | N17: =J17/IF(M17,$F$4,$F$3) -> 0 | O17: =IF(L19,$F$7/60,0) -> 0 | P17: =IF(AND(NOT(OR(I17=0,I18=0)),NOT(EXACT(I17,I18)),O17=0),$F$5/60,0) -> 0 | Q17: =IF(AND(NOT(EXACT(K17,K18)),K17<>"",K18<>""),$F$6/60,0) -> 0 | R17: =N17+MAX(O17,P17,Q17) -> 0
H18: ='Load Plan'!A47 -> 17 | I18: ='Load Plan'!B47 -> 0 | J18: ='Load Plan'!C47 -> 0 | K18: =TRIM(IF(J18>0,HLOOKUP(I18,'Load Plan'!$F$18:$W$23,4,FALSE),"")) | L18: =IF(AND(J18<>0,J19=0,J20=0),TRUE,FALSE) -> FALSE | M18: =OR(L18,L19) -> FALSE | N18: =J18/IF(M18,$F$4,$F$3) -> 0 | O18: =IF(L20,$F$7/60,0) -> 0 | P18: =IF(AND(NOT(OR(I18=0,I19=0)),NOT(EXACT(I18,I19)),O18=0),$F$5/60,0) -> 0 | Q18: =IF(AND(NOT(EXACT(K18,K19)),K18<>"",K19<>""),$F$6/60,0) -> 0 | R18: =N18+MAX(O18,P18,Q18) -> 0
H19: ='Load Plan'!A48 -> 18 | I19: ='Load Plan'!B48 -> 0 | J19: ='Load Plan'!C48 -> 0 | K19: =TRIM(IF(J19>0,HLOOKUP(I19,'Load Plan'!$F$18:$W$23,4,FALSE),"")) | L19: =IF(AND(J19<>0,J20=0,J21=0),TRUE,FALSE) -> FALSE | M19: =OR(L19,L20) -> FALSE | N19: =J19/IF(M19,$F$4,$F$3) -> 0 | O19: =IF(L21,$F$7/60,0) -> 0 | P19: =IF(AND(NOT(OR(I19=0,I20=0)),NOT(EXACT(I19,I20)),O19=0),$F$5/60,0) -> 0 | Q19: =IF(AND(NOT(EXACT(K19,K20)),K19<>"",K20<>""),$F$6/60,0) -> 0 | R19: =N19+MAX(O19,P19,Q19) -> 0
H20: ='Load Plan'!A49 -> 19 | I20: ='Load Plan'!B49 -> 0 | J20: ='Load Plan'!C49 -> 0 | K20: =TRIM(IF(J20>0,HLOOKUP(I20,'Load Plan'!$F$18:$W$23,4,FALSE),"")) | L20: =IF(AND(J20<>0,J21=0,J22=0),TRUE,FALSE) -> FALSE | M20: =OR(L20,L21) -> FALSE | N20: =J20/IF(M20,$F$4,$F$3) -> 0 | O20: =IF(L22,$F$7/60,0) -> 0 | P20: =IF(AND(NOT(OR(I20=0,I21=0)),NOT(EXACT(I20,I21)),O20=0),$F$5/60,0) -> 0 | Q20: =IF(AND(NOT(EXACT(K20,K21)),K20<>"",K21<>""),$F$6/60,0) -> 0 | R20: =N20+MAX(O20,P20,Q20) -> 0
H21: ='Load Plan'!A50 -> 20 | I21: ='Load Plan'!B50 -> 0 | J21: ='Load Plan'!C50 -> 0 | K21: =TRIM(IF(J21>0,HLOOKUP(I21,'Load Plan'!$F$18:$W$23,4,FALSE),"")) | L21: =IF(AND(J21<>0,J22=0,J23=0),TRUE,FALSE) -> FALSE | M21: =OR(L21,L22) -> FALSE | N21: =J21/IF(M21,$F$4,$F$3) -> 0 | O21: =IF(L23,$F$7/60,0) -> 0 | P21: =IF(AND(NOT(OR(I21=0,I22=0)),NOT(EXACT(I21,I22)),O21=0),$F$5/60,0) -> 0 | Q21: =IF(AND(NOT(EXACT(K21,K22)),K21<>"",K22<>""),$F$6/60,0) -> 0 | R21: =N21+MAX(O21,P21,Q21) -> 0
H22: ='Load Plan'!A51 -> 21 | I22: ='Load Plan'!B51 -> 0 | J22: ='Load Plan'!C51 -> 0 | K22: =TRIM(IF(J22>0,HLOOKUP(I22,'Load Plan'!$F$18:$W$23,4,FALSE),"")) | L22: =IF(AND(J22<>0,J23=0,J24=0),TRUE,FALSE) -> FALSE | M22: =OR(L22,L23) -> FALSE | N22: =J22/IF(M22,$F$4,$F$3) -> 0 | O22: =IF(L24,$F$7/60,0) -> 0 | P22: =IF(AND(NOT(OR(I22=0,I23=0)),NOT(EXACT(I22,I23)),O22=0),$F$5/60,0) -> 0 | Q22: =IF(AND(NOT(EXACT(K22,K23)),K22<>"",K23<>""),$F$6/60,0) -> 0 | R22: =N22+MAX(O22,P22,Q22) -> 0
H23: ='Load Plan'!A52 -> 22 | I23: ='Load Plan'!B52 -> 0 | J23: ='Load Plan'!C52 -> 0 | K23: =TRIM(IF(J23>0,HLOOKUP(I23,'Load Plan'!$F$18:$W$23,4,FALSE),"")) | L23: =IF(AND(J23<>0,J24=0,J25=0),TRUE,FALSE) -> FALSE | M23: =OR(L23,L24) -> FALSE | N23: =J23/IF(M23,$F$4,$F$3) -> 0 | O23: =IF(L25,$F$7/60,0) -> 0 | P23: =IF(AND(NOT(OR(I23=0,I24=0)),NOT(EXACT(I23,I24)),O23=0),$F$5/60,0) -> 0 | Q23: =IF(AND(NOT(EXACT(K23,K24)),K23<>"",K24<>""),$F$6/60,0) -> 0 | R23: =N23+MAX(O23,P23,Q23) -> 0
H24: ='Load Plan'!A53 -> 23 | I24: ='Load Plan'!B53 -> 0 | J24: ='Load Plan'!C53 -> 0 | K24: =TRIM(IF(J24>0,HLOOKUP(I24,'Load Plan'!$F$18:$W$23,4,FALSE),"")) | L24: =IF(AND(J24<>0,J25=0,J26=0),TRUE,FALSE) -> FALSE | M24: =OR(L24,L25) -> FALSE | N24: =J24/IF(M24,$F$4,$F$3) -> 0 | O24: =IF(L26,$F$7/60,0) -> 0 | P24: =IF(AND(NOT(OR(I24=0,I25=0)),NOT(EXACT(I24,I25)),O24=0),$F$5/60,0) -> 0 | Q24: =IF(AND(NOT(EXACT(K24,K25)),K24<>"",K25<>""),$F$6/60,0) -> 0 | R24: =N24+MAX(O24,P24,Q24) -> 0
H25: ='Load Plan'!A54 -> 24 | I25: ='Load Plan'!B54 -> 0 | J25: ='Load Plan'!C54 -> 0 | K25: =TRIM(IF(J25>0,HLOOKUP(I25,'Load Plan'!$F$18:$W$23,4,FALSE),""))
H26: ='Load Plan'!A55 -> 25 | I26: ='Load Plan'!B55 -> 0 | J26: ='Load Plan'!C55 -> 0 | K26: =TRIM(IF(J26>0,HLOOKUP(I26,'Load Plan'!$F$18:$W$23,4,FALSE),""))

Sheet HELPbloqueado
A1: PUERTO NUEVO (PNSA) LOADING PLAN - HELP SECTION
A3: GENERAL INFORMATION
A5: 1 | B5: The loading sequence must be submitted as per the standard format published on the website of Puerto Nuevo S.A.
A6: =+A5+1 -> 2 | B6: Vessels receiving more than one (1) parcel shall complete each parcel entirely before proceeding to the next cargo parcel
A7: =+A6+1 -> 3 | B7: PNSA will not load quantities of coal in less than the Minimum Drop Size - Three hundred (300) Tonnes
A8: =+A7+1 -> 4 | B8: A maximum of two (2) passes per hatch are allowed
A9: =+A8+1 -> 5 | B9: To complete the Vessel the master can request to trim up to two (2) holds. Trim tonnage shall be of one coal type and meet the Minimum Drop Size
A10: =+A9+1 -> 6 | B10: Please consider a maximum filling of 95% of the holds with nearby structures that may afect shiploader operations.
A11: =+A10+1 -> 7 | B11: If deballasting is unable to keep up with loading then loading may cease until the Vessel is then able to resume loading until completion without further stoppages.
A12: =+A11+1 -> 8 | B12: Vessels will be loaded in line with IMSBC Code under master’s supervision and responsibility, and in accordance with the shipment contract between PNSA and the User
A13: =+A12+1 -> 9 | B13: Any special loading instructions are to be included in the loading plan for consideration by PNSA
A15: INFORMATION ABOUT THE LOADING PLAN TEMPLATE
A17: To be filled by Vessel Master:
A18: Item # | B18: Item | E18: Description | M18: Back to Load Plan
A19: 1 | B19: Ballast to pump out (m3): | E19: The amount of ballast that must be removed from the ship.
A20: =A19+1 -> 2 | B20: Deballast Pump Rate: | E20: Rate of deballast in cubic meters per hour.
A21: =A20+1 -> 3 | B21: Dock Water density | E21: Water density at dock in kilograms per litre. This information can be obtained from surveyors through the shipping agent.
A22: =A21+1 -> 4 | B22: Max. Sailing Draft | E22: Maximum sailing draft based on disport and/or other restrictions. This sailing draft does not refer to the PNSA limit of 18.40m, but to the vessel's maximum draft as per discharge port and/or other restrictions. - For PNSA information purpose only. Vessel remains responsible for correct execution -
A23: =A22+1 -> 5 | B23: Vessel with Deck Gear Tickbox | E23: Indication if vessel is equipped with deck gear.
A24: =A23+1 -> 6 | B24: Coal Name | E24: Export coal name per cargo type (if there are more than one cargo type)
A25: =A24+1 -> 7 | B25: Stowage Factor (ft3/ t) | E25: Space (ft3) occupied per metric tonne of cargo, based on Shipper's suggestion. This information can be obtained from shippers through the shipping agent. The vessel must establish the real stowage factor during loading and re-calculate its loading plan if needed.
A26: =A25+1 -> 8 | B26: Planned Tonnes per cargo type | E26: Total tonnes requested for each cargo in tonnes.
A27: =A26+1 -> 9 | B27: Capacity including Coamings | E27: Cubic grain capacity per hold in ft3
A28: =A27+1 -> 10 | B28: Planned filling % | E28: Planned hold utilization as a percentage. 100% represents full capacity of the hold to be used.
A29: =A28+1 -> 11 | B29: Tonnes (Planned) | E29: Weight of cargo in metric tonnes
A30: =A29+1 -> 12 | B30: Cargo - Hold Number | E30: Hold for which the cargo is to be loaded in the vessel.
A31: =A30+1 -> 13 | B31: Cargo - Tonnes (Detail) | E31: Weight of cargo in each pour (in metric tonnes)
... A46: =A45+1 -> 28 | B46: Tonnage restriction (if any): | E46: Maximum (or minimum) tonnage to be loaded if there is a tonnage restriction based on vessel/owner request. - For PNSA information purpose only. Vessel remains responsible for correct execution -
A47: 29 | B47: Estimated sailing displacement: | E47: Estimated displacement at the time of sailing. Please take into account that the displacement cannot be above 205,000 t at any time.
A48: Auto-Calculation
A49: Item # | B49: Item | E49: Description | M49: Back to Load Plan
A50: 1 | B50: Load Time (Hrs) | E50: Based on an average loading rate of 6,500t/h. Nominal loading rate: 8,000t/h
A51: =+A50+1 -> 2 | B51: Assumed SF (ft3/ton) | E51: Assumed SF based on the cubic grain capacity, total be loaded and the planned % of filling

Sheet HELP
A1: PUERTO NUEVO (PNSA) LOADING PLAN - HELP SECTION
A3: GENERAL INFORMATION
A5: 1 | B5: The loading sequence must be submitted as per the standard format published on the website of Puerto Nuevo S.A.
A6: =+A5+1 -> 2 | B6: Vessels receiving more than one (1) parcel shall complete each parcel entirely before proceeding to the next cargo parcel
A7: =+A6+1 -> 3 | B7: PNSA will not load quantities of coal in less than the Minimum Drop Size - Three hundred (300) Tonnes
A8: =+A7+1 -> 4 | B8: A maximum of two (2) passes per hatch are allowed
A9: =+A8+1 -> 5 | B9: To complete the Vessel the master can request to trim up to two (2) holds. Trim tonnage shall be of one coal type and meet the Minimum Drop Size
A10: =+A9+1 -> 6 | B10: Please consider a maximum filling of 95% of the holds with nearby structures that may afect shiploader operations.
A11: =+A10+1 -> 7 | B11: If deballasting is unable to keep up with loading then loading may cease until the Vessel is then able to resume loading until completion without further stoppages.
A12: =+A11+1 -> 8 | B12: Vessels will be loaded in line with IMSBC Code under master’s supervision and responsibility, and in accordance with the shipment contract between PNSA and the User
A13: =+A12+1 -> 9 | B13: Any special loading instructions are to be included in the loading plan for consideration by PNSA
A15: INFORMATION ABOUT THE LOADING PLAN TEMPLATE
A17: To be filled by Vessel Master:
A18: Item # | B18: Item | E18: Description | M18: Back to Load Plan
A19: 1 | B19: Ballast to pump out (m3): | E19: The amount of ballast that must be removed from the ship.
A20: =A19+1 -> 2 | B20: Deballast Pump Rate: | E20: Rate of deballast in cubic meters per hour.
A21: =A20+1 -> 3 | B21: Dock Water density | E21: Water density at dock in kilograms per litre. This information can be obtained from surveyors through the shipping agent.
A22: =A21+1 -> 4 | B22: Draft restriction Tickbox | E22: Indication if vessel has any draft restriction to comply with based on disport and/or any other restriction after sailing from Puerto Nuevo
A23: =A22+1 -> 5 | B23: Max. Sailing Draft | E23: To be filled only if the draft restriction tickbox is selected. Maximum sailing draft based on disport and/or other restrictions. This sailing draft does not refer to the PNSA limit of 18.40m, but to the vessel's maximum draft as per discharge port and/or other restrictions. - For PNSA information purpose only. Vessel remains responsible for correct execution -
A24: =A23+1 -> 6 | B24: Coal Name | E24: Export coal name per cargo type (if there are more than one cargo type)
A25: =A24+1 -> 7 | B25: Stowage Factor (ft3/ t) | E25: Space (ft3) occupied per metric tonne of cargo, based on Shipper's suggestion. This information can be obtained from shippers through the shipping agent. The vessel must establish the real stowage factor during loading and re-calculate its loading plan if needed.
A26: =A25+1 -> 8 | B26: Planned Tonnes per cargo type | E26: Total tonnes requested for each cargo in tonnes.
A27: =A26+1 -> 9 | B27: Capacity including Coamings | E27: Cubic grain capacity per hold in ft3
A28: =A27+1 -> 10 | B28: Planned filling % | E28: Planned hold utilization as a percentage. 100% represents full capacity of the hold to be used.
A29: =A28+1 -> 11 | B29: Tonnes (Planned) | E29: Weight of cargo in metric tonnes
A30: =A29+1 -> 12 | B30: Cargo - Hold Number | E30: Hold for which the cargo is to be loaded in the vessel.
A31: =A30+1 -> 13 | B31: Cargo - Tonnes (Detail) | E31: Weight of cargo in each pour (in metric tonnes)
... A49: =A48+1 -> 31 | B49: Tonnage restriction (if any): | E49: Maximum (or minimum) tonnage to be loaded if there is a tonnage restriction based on vessel/owner request. - For PNSA information purpose only. Vessel remains responsible for correct execution -
A50: Auto-Calculation
A51: Item # | B51: Item | E51: Description | M51: Back to Load Plan
A52: 1 | B52: Load Time (Hrs) | E52: Based on an average loading rate of 6,500t/h. Nominal loading rate: 8,000t/h
A53: =+A52+1 -> 2 | B53: Assumed SF (ft3/ton) | E53: Assumed SF based on the cubic grain capacity, total be loaded and the planned % of filling
